BEGIN:VCALENDAR

VERSION:2.0

PRODID:-//hacksw/handcal//NONSGML v1.0//EN

CALSCALE:GREGORIAN

METHOD:PUBLISH

TRANSP:OPAQUE

BEGIN:VEVENT

UID:62944a3c2d35e2c05d99df0ec7f86a9b
DTSTAMP:20260422T083507
DTSTART:20230421T111500
DTEND:20230422T121500
SUMMARY:Sample Event Two
DESCRIPTION:Sample Event Two
LOCATION:
END:VEVENT

END:VCALENDAR
