BEGIN:VCALENDAR

VERSION:2.0

PRODID:-//hacksw/handcal//NONSGML v1.0//EN

CALSCALE:GREGORIAN

METHOD:PUBLISH

TRANSP:OPAQUE

BEGIN:VEVENT

UID:2b59251521aed0c4a3f5a532cc799585
DTSTAMP:20260424T081520
DTSTART:20230424T112200
DTEND:20230425T122200
SUMMARY:Sample Event Three
DESCRIPTION:Sample Event Three
LOCATION:
END:VEVENT

END:VCALENDAR
