BEGIN:VCALENDAR

VERSION:2.0

PRODID:-//hacksw/handcal//NONSGML v1.0//EN

CALSCALE:GREGORIAN

METHOD:PUBLISH

TRANSP:OPAQUE

BEGIN:VEVENT

UID:0dc1d2c7992b33a8a13624b3d7a589ad
DTSTAMP:20260422T124826
DTSTART:20230418T064700
DTEND:20230419T074700
SUMMARY:Sample Event One
DESCRIPTION:Sample Event One
LOCATION:
END:VEVENT

END:VCALENDAR
