BEGIN:VCALENDAR

VERSION:2.0

PRODID:-//hacksw/handcal//NONSGML v1.0//EN

CALSCALE:GREGORIAN

METHOD:PUBLISH

TRANSP:OPAQUE

BEGIN:VEVENT

UID:e5e53fc9f64111dce07cf1a2f8eecc5a
DTSTAMP:20260422T083658
DTSTART:20230428T112600
DTEND:20230428T122600
SUMMARY:Sample Event Four
DESCRIPTION:Sample Event Four
LOCATION:
END:VEVENT

END:VCALENDAR
