BEGIN:VCALENDAR

VERSION:2.0

PRODID:-//hacksw/handcal//NONSGML v1.0//EN

CALSCALE:GREGORIAN

METHOD:PUBLISH

TRANSP:OPAQUE

BEGIN:VEVENT

UID:c26bc87aabfa74c827f79d9d902935e4
DTSTAMP:20260422T083508
DTSTART:20230503T113000
DTEND:20230503T123000
SUMMARY:Sample Event Five
DESCRIPTION:Sample Event Five
LOCATION:
END:VEVENT

END:VCALENDAR
